BEGIN:VCALENDAR
VERSION:2.0
PRODID:-//Debras Palace Initiative - ECPv6.15.15//NONSGML v1.0//EN
CALSCALE:GREGORIAN
METHOD:PUBLISH
X-WR-CALNAME:Debras Palace Initiative
X-ORIGINAL-URL:https://www.debraspalace.org
X-WR-CALDESC:Events for Debras Palace Initiative
REFRESH-INTERVAL;VALUE=DURATION:PT1H
X-Robots-Tag:noindex
X-PUBLISHED-TTL:PT1H
BEGIN:VTIMEZONE
TZID:Europe/Paris
BEGIN:DAYLIGHT
TZOFFSETFROM:+0100
TZOFFSETTO:+0200
TZNAME:CEST
DTSTART:20190331T010000
END:DAYLIGHT
BEGIN:STANDARD
TZOFFSETFROM:+0200
TZOFFSETTO:+0100
TZNAME:CET
DTSTART:20191027T010000
END:STANDARD
BEGIN:DAYLIGHT
TZOFFSETFROM:+0100
TZOFFSETTO:+0200
TZNAME:CEST
DTSTART:20200329T010000
END:DAYLIGHT
BEGIN:STANDARD
TZOFFSETFROM:+0200
TZOFFSETTO:+0100
TZNAME:CET
DTSTART:20201025T010000
END:STANDARD
BEGIN:DAYLIGHT
TZOFFSETFROM:+0100
TZOFFSETTO:+0200
TZNAME:CEST
DTSTART:20210328T010000
END:DAYLIGHT
BEGIN:STANDARD
TZOFFSETFROM:+0200
TZOFFSETTO:+0100
TZNAME:CET
DTSTART:20211031T010000
END:STANDARD
BEGIN:DAYLIGHT
TZOFFSETFROM:+0100
TZOFFSETTO:+0200
TZNAME:CEST
DTSTART:20220327T010000
END:DAYLIGHT
BEGIN:STANDARD
TZOFFSETFROM:+0200
TZOFFSETTO:+0100
TZNAME:CET
DTSTART:20221030T010000
END:STANDARD
BEGIN:DAYLIGHT
TZOFFSETFROM:+0100
TZOFFSETTO:+0200
TZNAME:CEST
DTSTART:20230326T010000
END:DAYLIGHT
BEGIN:STANDARD
TZOFFSETFROM:+0200
TZOFFSETTO:+0100
TZNAME:CET
DTSTART:20231029T010000
END:STANDARD
BEGIN:DAYLIGHT
TZOFFSETFROM:+0100
TZOFFSETTO:+0200
TZNAME:CEST
DTSTART:20240331T010000
END:DAYLIGHT
BEGIN:STANDARD
TZOFFSETFROM:+0200
TZOFFSETTO:+0100
TZNAME:CET
DTSTART:20241027T010000
END:STANDARD
BEGIN:DAYLIGHT
TZOFFSETFROM:+0100
TZOFFSETTO:+0200
TZNAME:CEST
DTSTART:20250330T010000
END:DAYLIGHT
BEGIN:STANDARD
TZOFFSETFROM:+0200
TZOFFSETTO:+0100
TZNAME:CET
DTSTART:20251026T010000
END:STANDARD
BEGIN:DAYLIGHT
TZOFFSETFROM:+0100
TZOFFSETTO:+0200
TZNAME:CEST
DTSTART:20260329T010000
END:DAYLIGHT
BEGIN:STANDARD
TZOFFSETFROM:+0200
TZOFFSETTO:+0100
TZNAME:CET
DTSTART:20261025T010000
END:STANDARD
END:VTIMEZONE
BEGIN:VTIMEZONE
TZID:UTC
BEGIN:STANDARD
TZOFFSETFROM:+0000
TZOFFSETTO:+0000
TZNAME:UTC
DTSTART:20230101T000000
END:STANDARD
END:VTIMEZONE
BEGIN:VEVENT
DTSTART;VALUE=DATE:20250908
DTEND;VALUE=DATE:20251021
DTSTAMP:20260423T232241
CREATED:20250829T231524Z
LAST-MODIFIED:20250829T232511Z
UID:6953-1757289600-1761004799@www.debraspalace.org
SUMMARY:Creative Summer School 2025
DESCRIPTION:The Creative Summer School returns for its second edition—empowering 25 boys aged 15–21 from to unlock their creativity. Through this impactful camp\, our non-profit nurtures self-expression\, skills\, and personal growth in the boy child. \n \nLoading…
URL:https://www.debraspalace.org/events/creative-summer-school-2025/
CATEGORIES:Upcoming
ATTACH;FMTTYPE=image/jpeg:https://www.debraspalace.org/wp-content/uploads/2025/08/DEBRA-PALACE-CREATIVE-3.jpg
END:VEVENT
BEGIN:VEVENT
DTSTART;TZID=Europe/Paris:20250821T100000
DTEND;TZID=Europe/Paris:20250821T140000
DTSTAMP:20260423T232241
CREATED:20250812T083803Z
LAST-MODIFIED:20250812T084438Z
UID:6911-1755770400-1755784800@www.debraspalace.org
SUMMARY:Rep Your Club Experience
DESCRIPTION:Rep Your Club Experience is a Pre-Creative Summer School event designed for boys aged 15-21\, featuring: \n \n🏆 Football-themed competitions\n🎮 PS5 tournament\n💡 Mentorship moment\n…and many more! \n📅 Thursday\, August 21st\, 2025\n⏰ 10:00 am\n📍 Gameland\, Lekki\, Lagos \nDress code: Jersey of any of our featured clubs \nLoading…
URL:https://www.debraspalace.org/events/rep-your-club-experience/
LOCATION:Gameland\, Lekki\, Lagos\, THE LEKKI COLISEUM (TLC\, Plot 14 The Providence St\, off Admiralty Way\, Lekki Phase I\, Lekki\, Lagos\, Lagos\, 106104\, Nigeria
CATEGORIES:Upcoming
ATTACH;FMTTYPE=image/jpeg:https://www.debraspalace.org/wp-content/uploads/2025/08/DEBRA-PALACE-2-new.jpg
END:VEVENT
BEGIN:VEVENT
DTSTART;TZID=UTC:20250516T100000
DTEND;TZID=UTC:20250516T130000
DTSTAMP:20260423T232241
CREATED:20250424T153147Z
LAST-MODIFIED:20250424T185256Z
UID:6436-1747389600-1747400400@www.debraspalace.org
SUMMARY:Made for More - The Boy Child Conversation Conference 2025
DESCRIPTION:The Boy Child Conversation Conference 2025 is more than an event—it’s a movement. A safe space where boys are seen\, heard\, and empowered to rise. \nThis year’s theme: Made for More. \nBecause every boy deserves to know his worth\, potential\, and purpose. \nJoin us on May 16th at the Pistis Conference Centre\, Lekki\, as we mark the International Day of the Boy Child. Whether you’re a parent\, teacher\, guardian\, or community leader\, your voice and presence matter. \nLet’s raise boys who become the kind of men the world truly needs. When we invest in boys\, we build a thriving future. \nWhat happens when boys are seen\, heard\, and empowered? They become leaders\, thinkers\, and changemakers. \n \nAt the Boy Child Conversation Conference\, we’re breaking stereotypes and rewriting destinies\, because every boy deserves a future filled with possibilities\, not limitations. \nMay 2025\, Lagos. Be part of the change.
URL:https://www.debraspalace.org/events/made-for-more-the-boy-child-conversation-conference-2025/
LOCATION:Pistis Conference Centre\, Lagos\, Nigeria
CATEGORIES:Upcoming
ATTACH;FMTTYPE=image/jpeg:https://www.debraspalace.org/wp-content/uploads/2025/04/IMG_1705-new-1.jpg
END:VEVENT
BEGIN:VEVENT
DTSTART;VALUE=DATE:20250516
DTEND;VALUE=DATE:20250517
DTSTAMP:20260423T232241
CREATED:20250425T190105Z
LAST-MODIFIED:20250425T190105Z
UID:6877-1747353600-1747439999@www.debraspalace.org
SUMMARY:The DPI Parents' Conversation
DESCRIPTION:Raising boys isn’t just about meeting today’s needs — it’s about intentionally preparing the leaders\, visionaries\, and fathers of tomorrow. Every conversation\, every lesson\, every encouragement you give today is a seed for a stronger future. \nThat’s why we’re inviting you to join us for the DPI Parents’ Conversation on May 16th\, 2025 — a special gathering designed to empower parents\, inspire hope\, and provide practical wisdom for raising boys who will stand tall in an ever-changing world. \nLet’s come together to learn\, share\, and build a community where parenting is intentional and the future is secured through strong family values. \nBecause the work of today’s parents is the foundation of tomorrow’s greatness. \nLet’s raise boys who become men of purpose! \n \n📌 Save the Date: May 16th\, 2025📞 Sponsorship and enquiries: 0816 448 4656 | +234 814 565 0529📧 Email: debraspalaceinitiative@gmail.com🌐 Website: www.debraspalace.org
URL:https://www.debraspalace.org/events/the-dpi-parents-conversation/
LOCATION:Pistis Conference Centre\, Lagos\, Nigeria
CATEGORIES:Upcoming
ATTACH;FMTTYPE=image/png:https://www.debraspalace.org/wp-content/uploads/2025/04/IMG_1895.png
END:VEVENT
BEGIN:VEVENT
DTSTART;TZID=Europe/Paris:20250115T000000
DTEND;TZID=Europe/Paris:20250330T084700
DTSTAMP:20260423T232241
CREATED:20250109T084723Z
LAST-MODIFIED:20250109T090643Z
UID:6833-1736899200-1743324420@www.debraspalace.org
SUMMARY:DPI Jamb & University Scholarship Program
DESCRIPTION:﻿﻿Loading…
URL:https://www.debraspalace.org/events/dpi-jamb-university-scholarship-program/
CATEGORIES:Upcoming
END:VEVENT
BEGIN:VEVENT
DTSTART;VALUE=DATE:20240812
DTEND;VALUE=DATE:20240824
DTSTAMP:20260423T232241
CREATED:20240812T080004Z
LAST-MODIFIED:20241119T152909Z
UID:3205-1723420800-1724457599@www.debraspalace.org
SUMMARY:The Creative Summer School
DESCRIPTION:The Creative Summer School is an exceptional program designed to empower young boys and unlock their creative potential. Held from August 13-22\, 2024\, this intensive event brought together budding creatives and industry professionals\, offering a transformative experience for all participants. \nAt the heart of the Creative Summer School lies a mission to build confidence and equip attendees with essential skills for success. Through an immersive curriculum\, students explored a diverse range of creative disciplines\, including photography\, filmmaking\, audio production\, graphic design\, and content creation. These hands-on workshops and lectures provided a unique opportunity for the boys to discover their talents and passions. \nComplementing the skills-based training\, the program also featured invaluable mentorship sessions. Industry experts\, such as Ali Baba\, Bayo Omoboriowo\, Wale Asifat\, Ifeanyi Akogo\, Uncle Sele\, Seun Ajayi\, Damilola Onafuwa\, Abayomi Oluwatoyin and Stephen Oluboyo shared their insights and guidance\, empowering the young attendees to navigate their creative journeys. Additionally\, the father-son sessions fostered deeper connections\, empowering fathers to be positive role models and custodians of their sons’ lives. \nThe Creative Summer School stands as a testament to the transformative power of creativity. By nurturing the talents and confidence of the next generation\, this program promises to leave a lasting impact on the lives of young boys.
URL:https://www.debraspalace.org/events/the-creative-summer-school/
LOCATION:Lagos\, Nigeria\, Lagos\, Nigeria
CATEGORIES:Past Events
ATTACH;FMTTYPE=image/jpeg:https://www.debraspalace.org/wp-content/uploads/2019/07/CSS-new-2.jpg
ORGANIZER;CN="Debra's Palace Initiative":MAILTO:info@debraspalace.org
END:VEVENT
BEGIN:VEVENT
DTSTART;TZID=Europe/Paris:20240527T110000
DTEND;TZID=Europe/Paris:20240527T170000
DTSTAMP:20260423T232241
CREATED:20240527T203013Z
LAST-MODIFIED:20241116T222434Z
UID:6712-1716807600-1716829200@www.debraspalace.org
SUMMARY:Children's Day with Street Kids
DESCRIPTION:On May 24\, 2024\, the team at Debra’s Palace Initiative\, in collaboration with the Pistis Foundation\, organized a heartwarming Children’s Day party for vulnerable children in the Jakande Community of Lekki. This event was particularly poignant\, as many families in the area had been displaced by government actions\, leaving some children without homes and roaming the streets on a day meant to celebrate childhood. \nRecognizing the need to bring joy and support to these underprivileged children\, the organizers worked tirelessly to create a memorable celebration. During the party\, we discovered that some of the attendees were out of school\, prompting the Pistis Foundation to take immediate action. The foundation enrolled several of the children in school\, providing them with the opportunity to continue their education and build a brighter future. \nAdditionally\, the Pistis Foundation established a football club\, welcoming both boys and girls to participate. This initiative not only fostered athletic development but also cultivated a sense of community and belonging among the children\, many of whom had faced the hardships of displacement and instability. \nThe Children’s Day party was a testament to the power of compassion and the transformative impact that can be achieved when organizations come together to support the most vulnerable members of society. By providing education\, recreational activities\, and a haven for these children\, the event left an indelible mark\, reminding us all of the importance of standing up for the rights and well-being of every child\, regardless of their circumstances.
URL:https://www.debraspalace.org/events/childrens-day-with-street-kids/
LOCATION:Pistis Conference Centre\, Lagos\, Nigeria
CATEGORIES:Past Events
ATTACH;FMTTYPE=image/jpeg:https://www.debraspalace.org/wp-content/uploads/2024/11/WhatsApp-Image-2024-11-15-at-18.12.19_c02a8372-1.jpg
END:VEVENT
BEGIN:VEVENT
DTSTART;TZID=UTC:20240516T100000
DTEND;TZID=UTC:20240516T130000
DTSTAMP:20260423T232241
CREATED:20240516T070009Z
LAST-MODIFIED:20241116T152802Z
UID:940-1715853600-1715864400@www.debraspalace.org
SUMMARY:Aburo Screening on the International Day of the Boy Child
DESCRIPTION:On International Day of the Boy Child 2024\, Debra’s Palace\, in collaboration with Filmone Studios\, hosted a special screening of the powerful film “Aburo” for over 40 boys from public secondary schools in Lagos. This moving cinematic portrayal resonates deeply with the struggles and experiences of the average Nigerian boy child\, striking a chord with all in attendance. \n“Aburo” masterfully depicts the resilience\, determination\, and pursuit of dreams that define the journeys of so many young men in our society. Through its compelling narrative and authentic character depictions\, the film shines a light on the challenges faced by boys navigating the complexities of life in Nigeria. This screening provided a transformative opportunity for the invited students to engage directly with the film’s stars\, Efa Iwara and Prince Buchi\, as well as the director and producers\, fostering empathy\, understanding\, and empowerment. \nThe International Day of the Boy Child is a crucial moment to celebrate the triumphs and address the unique challenges confronting boys worldwide. By sharing “Aburo” and facilitating this enriching dialogue\, Debra’s Palace and Filmone Studios have made an invaluable contribution to this important global observance. This screening stands as a testament to the power of storytelling to inspire\, educate\, and uplift the next generation of young men.
URL:https://www.debraspalace.org/events/aburo-screening-on-the-international-day-of-the-boy-child/
LOCATION:Film House Cinemas\, Landmark\, Water Corporation Road\, Victoria Island\, Lagos\, Film House Cinemas\, Landmark\, Water Corporation Road\, Victoria Island\, Lagos\, Nigeria
CATEGORIES:Past Events
ATTACH;FMTTYPE=image/jpeg:https://www.debraspalace.org/wp-content/uploads/2024/05/WhatsApp-Image-2024-05-19-at-21.34.08_ff3016c7.jpg
END:VEVENT
BEGIN:VEVENT
DTSTART;TZID=Europe/Paris:20240208T080000
DTEND;TZID=Europe/Paris:20240314T170000
DTSTAMP:20260423T232241
CREATED:20240316T143902Z
LAST-MODIFIED:20241116T165254Z
UID:6519-1707379200-1710435600@www.debraspalace.org
SUMMARY:Boy Child Conversation School Tours
DESCRIPTION:From February to April 2024\, the Boy Child Conversation School Tour embarked on a mission to empower and influence the next generation of young men. Driven by the theme “Influence – Inspiring the boy child to secure a better future\,” this impactful initiative visited five schools across Lagos\, Nigeria\, engaging over 300 boys in transformative discussions. \n \nAt the heart of the tour was a commitment to build upon the conversations and insights from a previous conference. Mentors such as Seun Ajayi\, Damilola Onafuwa\, Michael Ama Psalmist\, Emeka Filmwox Chinedu\, Vincent Mayaki\, Godwin AdedejiEbebbe Okechukwu\, and Edinrin Aghoghovbia lent their expertise\, wisdom\, and personal experiences to inspire the attendees. The message was clear: the boy child must understand that success is within reach\, as those who have come before them have paved the way. With the right guidance and influence\, these young men can secure a brighter tomorrow. \n \nThe tour visited renowned institutions\, including Boy Academy Lagos Island\, Wahab Folawiyo High School\, Eko Akete Grammar School\, Akande High School\, and Government Senior College\, Ikoy. In each location\, the team facilitated engaging discussions\, fostered mentorship connections\, and empowered the participants to recognize their potential and take ownership of their futures. \nThis impactful school tour serves as a testament to the power of positive influence and the transformative impact it can have on the lives of young men. By tapping into the aspirations and dreams of the boy child\, the initiative has laid the foundation for a generation of leaders\, innovators\, and change-makers who will undoubtedly shape the future in profound ways. \nGovernment Senior Secondary School\, Osborne\, Ikoyi\n\n\n			\n				\n			\n			\n				\n			\n			\n				\n			\n			\n				\n			\n			\n				\n			\n			\n				\n			\n			\n				\n			\n			\n				\n			\n			\n				\n			\n			\n				\n			\n			\n				\n			\n			\n				\n			\n			\n				\n			\n			\n				\n			\n			\n				\n			\n			\n				\n			\n			\n				\n			\n			\n				\n			\n			\n				\n			\n			\n				\n			\n			\n				\n			\n			\n				\n			\n			\n				\n			\n			\n				\n			\n			\n				\n			\n			\n				\n			\n			\n				\n			\n			\n				\n			\n			\n				\n			\n			\n				\n			\n			\n				\n			\n			\n				\n			\n			\n				\n			\n			\n				\n			\n			\n				\n			\n		\n\nBoy Senior Academy\, Sura\, Lagos Island
URL:https://www.debraspalace.org/events/boy-child-conversation-school-tours/
CATEGORIES:Past Events
ATTACH;FMTTYPE=image/jpeg:https://www.debraspalace.org/wp-content/uploads/2024/11/WhatsApp-Image-2024-11-15-at-18.12.03_f321309d.jpg
END:VEVENT
BEGIN:VEVENT
DTSTART;TZID=Europe/Paris:20230622T090000
DTEND;TZID=Europe/Paris:20230622T170000
DTSTAMP:20260423T232241
CREATED:20240622T143653Z
LAST-MODIFIED:20241116T143854Z
UID:6514-1687424400-1687453200@www.debraspalace.org
SUMMARY:KINGS AWAKE 2: The Third Boy Child Conversation Conference
DESCRIPTION:The Third Boy Child Conversation Conference\, held in commemoration of the International Day of the Boy Child\, was a resounding success\, drawing over 600 secondary school boys to the Glover Memorial Hall in Lagos. Themed “KINGS AWAKE 2\,” the conference provided a powerful platform for these young men to explore themes of Purpose\, Identity\, Influence\, and Politics. \nThe event featured an impressive lineup of mentors and speakers who shared their invaluable experiences and insights with the attendees. Femi Odugbemi\, the Executive Director of Zuri 24 Media\, delivered the first keynote speech\, while Mr. Abayomi Adewumi gave the second. \nThe conference was structured around two-panel discussions\, each addressing critical aspects of the young men’s developmental journey. The first panel\, “Navigating Teen-Adulthood\,” covered topics such as purpose\, identity\, clarity\, and impact\, led by panellists Yomi Molehin\, Tunde Onakoya\, Bolaji Adeola\, and Seun Fakorede. \nThe second panel session\, “Conversations on Self-Development\,” equipped the attendees with knowledge on personal branding\, goal setting\, entrepreneurship\, and digital and financial literacy. This discussion was championed by co-panelists Bada Akintunde-Johnson\, Bosun Adewale\, Patrick Nwokogo\, and Femi Bakre. \n \nThe event also featured a powerful address by David Folaranmi\, who spoke about the adverse effects of drug abuse and shared his personal story. Additionally\, Seun Ajayi gave a beautiful performance of his true story\, “Dreams from Kagoro.” \nThe Third Boy Child Conversation Conference was a testament to the power of mentorship\, personal development\, and empowering young men to become the best versions of themselves.
URL:https://www.debraspalace.org/events/kings-awake-2-the-third-boy-child-conversation-conference/
LOCATION:Glover Memorial Hall\, Lagos\, Nigeria
CATEGORIES:Past Events
ATTACH;FMTTYPE=image/jpeg:https://www.debraspalace.org/wp-content/uploads/2024/11/WhatsApp-Image-2024-11-15-at-18.10.34_b92bd57f.jpg
END:VEVENT
BEGIN:VEVENT
DTSTART;TZID=Europe/Paris:20220316T080000
DTEND;TZID=Europe/Paris:20220316T170000
DTSTAMP:20260423T232241
CREATED:20220316T140532Z
LAST-MODIFIED:20241116T142835Z
UID:6511-1647417600-1647450000@www.debraspalace.org
SUMMARY:KINGS AWAKE: The Second Boy Child Conversation Conference
DESCRIPTION:The Second Boy Child Conversation Conference was an impactful and inspiring event held in commemoration of the International Day of the Boy Child. Hosted at the Young Men’s Christian Association Hall in Ikoyi\, the conference brought together over 250 secondary school boys to explore themes of Purpose\, Identity\, Influence\, and Politics – all under the powerful banner of “KINGS AWAKE.” \nThe conference featured a diverse array of mentors and speakers who shared their invaluable experiences and insights with the young attendees. Luminaries like Leke Adeboye\, Morenike Molehin\, Ebuka Ede\, Kore Taomu\, Mohammed Ali\, Tosin Martins\, Oludare Akinlaja\, and Seun Ajayi graced the event\, captivating the audience with their stories of triumph and guidance. \nThrough these impactful sessions\, we aimed to inspire the young men in attendance to explore their dreams and aspirations beyond the constraints of their circumstances. By providing access to such esteemed role models\, the conference empowered the boys to see the vast possibilities that lie ahead\, empowering them to become the next generation of leaders\, innovators\, and change-makers. \nAs the second edition of this annual event\, the Boy Child Conversation Conference has solidified its position as a crucial platform for nurturing and uplifting the boy child. With its focus on holistic development and the fostering of positive mindsets\, this conference stands as a testament to the unwavering commitment to supporting and uplifting the young men of our society.
URL:https://www.debraspalace.org/events/kings-awake-the-second-boy-child-conversation-conference/
LOCATION:Romney Hall\, YMCA Lagos\, 77 Awolowo Road\, Ikoyi\, Lagos\, Nigeria
CATEGORIES:Past Events
ATTACH;FMTTYPE=image/jpeg:https://www.debraspalace.org/wp-content/uploads/2024/11/WhatsApp-Image-2024-11-15-at-18.10.21_b3a7b516.jpg
END:VEVENT
BEGIN:VEVENT
DTSTART;TZID=Europe/Paris:20200304T080000
DTEND;TZID=Europe/Paris:20200304T170000
DTSTAMP:20260423T232241
CREATED:20200304T135811Z
LAST-MODIFIED:20241116T153535Z
UID:6508-1583308800-1583341200@www.debraspalace.org
SUMMARY:EMERGE: The Inaugural Boy Child Conversation Conference
DESCRIPTION:In 2020\, over 300 boys gathered for the inaugural Boy Child Conversation Conference\, held under the powerful theme of “Emerge.” This transformative event brought together young men from diverse backgrounds\, including students from the Lagos State Model College in Badore and esteemed mentors such as Seun Ajayi\, Evans Akanno\, and Akinlabi Akinbulumo. \nThe “Emerge” theme served as a call to action\, urging the boys to step out of their comfort zones and embrace the incredible potential within them. Through the mentors’ compelling personal stories\, the attendees were inspired to recognize that they are not alone in their journeys. Instead\, they were empowered to move forward and become the men they were destined to be. \nThe conference provided a safe and nurturing space for the boys to connect\, learn\, and grow. By sharing their experiences and challenges\, the mentors offered guidance and support\, helping the young men navigate the complexities of their lives with renewed hope and determination. This inaugural event marked a significant milestone in the ongoing effort to empower and uplift the boy child\, ensuring they emerge as confident\, compassionate\, and capable leaders of tomorrow.
URL:https://www.debraspalace.org/events/emerge-the-inaugural-boy-child-conversation-conference/
LOCATION:Lagos State Model College\, Badore\, Lagos\, Nigeria
CATEGORIES:Past Events
ATTACH;FMTTYPE=image/jpeg:https://www.debraspalace.org/wp-content/uploads/2024/11/WhatsApp-Image-2024-11-15-at-18.10.11_8e0f22b6.jpg
END:VEVENT
END:VCALENDAR